BEGIN:VCALENDAR
VERSION:2.0
PRODID:-//Messiah Lutheran Church - ECPv6.15.20//NONSGML v1.0//EN
CALSCALE:GREGORIAN
METHOD:PUBLISH
X-WR-CALNAME:Messiah Lutheran Church
X-ORIGINAL-URL:https://halifaxmessiah.church
X-WR-CALDESC:Events for Messiah Lutheran Church
REFRESH-INTERVAL;VALUE=DURATION:PT1H
X-Robots-Tag:noindex
X-PUBLISHED-TTL:PT1H
BEGIN:VTIMEZONE
TZID:America/New_York
BEGIN:DAYLIGHT
TZOFFSETFROM:-0500
TZOFFSETTO:-0400
TZNAME:EDT
DTSTART:20210314T070000
END:DAYLIGHT
BEGIN:STANDARD
TZOFFSETFROM:-0400
TZOFFSETTO:-0500
TZNAME:EST
DTSTART:20211107T060000
END:STANDARD
BEGIN:DAYLIGHT
TZOFFSETFROM:-0500
TZOFFSETTO:-0400
TZNAME:EDT
DTSTART:20220313T070000
END:DAYLIGHT
BEGIN:STANDARD
TZOFFSETFROM:-0400
TZOFFSETTO:-0500
TZNAME:EST
DTSTART:20221106T060000
END:STANDARD
BEGIN:DAYLIGHT
TZOFFSETFROM:-0500
TZOFFSETTO:-0400
TZNAME:EDT
DTSTART:20230312T070000
END:DAYLIGHT
BEGIN:STANDARD
TZOFFSETFROM:-0400
TZOFFSETTO:-0500
TZNAME:EST
DTSTART:20231105T060000
END:STANDARD
END:VTIMEZONE
BEGIN:VEVENT
DTSTART;TZID=America/New_York:20221107T190000
DTEND;TZID=America/New_York:20221107T200000
DTSTAMP:20260425T082920
CREATED:20221105T173600Z
LAST-MODIFIED:20221201T220953Z
UID:1217-1667847600-1667851200@halifaxmessiah.church
SUMMARY:Bell Choir Rehearsal
DESCRIPTION:
URL:https://halifaxmessiah.church/event/bell-choir-rehearsal-5/
LOCATION:Messiah Lutheran Church\, 3 Church Street\, Halifax\, 17032\, United States
CATEGORIES:Music Ministry
END:VEVENT
BEGIN:VEVENT
DTSTART;TZID=America/New_York:20221107T190000
DTEND;TZID=America/New_York:20221107T210000
DTSTAMP:20260425T082920
CREATED:20221105T172008Z
LAST-MODIFIED:20221105T172021Z
UID:1203-1667847600-1667854800@halifaxmessiah.church
SUMMARY:Dartball vs. Lykens UMC
DESCRIPTION:
URL:https://halifaxmessiah.church/event/dartball-vs-lykens-umc/
LOCATION:Lykens United Methodist Church\, 527 North Second Street\, Lykens\, PA\, 17048\, United States
CATEGORIES:Fellowship
END:VEVENT
END:VCALENDAR