BEGIN:VCALENDAR
VERSION:2.0
PRODID:-//Messiah Lutheran Church - ECPv6.15.20//NONSGML v1.0//EN
CALSCALE:GREGORIAN
METHOD:PUBLISH
X-WR-CALNAME:Messiah Lutheran Church
X-ORIGINAL-URL:https://halifaxmessiah.church
X-WR-CALDESC:Events for Messiah Lutheran Church
REFRESH-INTERVAL;VALUE=DURATION:PT1H
X-Robots-Tag:noindex
X-PUBLISHED-TTL:PT1H
BEGIN:VTIMEZONE
TZID:America/New_York
BEGIN:DAYLIGHT
TZOFFSETFROM:-0500
TZOFFSETTO:-0400
TZNAME:EDT
DTSTART:20210314T070000
END:DAYLIGHT
BEGIN:STANDARD
TZOFFSETFROM:-0400
TZOFFSETTO:-0500
TZNAME:EST
DTSTART:20211107T060000
END:STANDARD
BEGIN:DAYLIGHT
TZOFFSETFROM:-0500
TZOFFSETTO:-0400
TZNAME:EDT
DTSTART:20220313T070000
END:DAYLIGHT
BEGIN:STANDARD
TZOFFSETFROM:-0400
TZOFFSETTO:-0500
TZNAME:EST
DTSTART:20221106T060000
END:STANDARD
BEGIN:DAYLIGHT
TZOFFSETFROM:-0500
TZOFFSETTO:-0400
TZNAME:EDT
DTSTART:20230312T070000
END:DAYLIGHT
BEGIN:STANDARD
TZOFFSETFROM:-0400
TZOFFSETTO:-0500
TZNAME:EST
DTSTART:20231105T060000
END:STANDARD
END:VTIMEZONE
BEGIN:VEVENT
DTSTART;VALUE=DATE:20221120
DTEND;VALUE=DATE:20221121
DTSTAMP:20260425T083038
CREATED:20221112T141650Z
LAST-MODIFIED:20221201T221036Z
UID:1231-1668902400-1668988799@halifaxmessiah.church
SUMMARY:Christmas Wreath Orders Due
DESCRIPTION:The wreaths are attractive\, well-made\, and benefit a good cause.  Order forms will be placed on the front pew at Messiah. Please consider a purchase!  When placing an order\, return the order form by Nov. 20TH  to the front pew (with check attached).  The wreaths will be delivered to the church basement on Nov. 30th for pick-up! \n  \nSale conducted and benefits Cub Scout Pack 156.
URL:https://halifaxmessiah.church/event/christmas-wreath-orders-due/
LOCATION:Messiah Lutheran Church\, 3 Church Street\, Halifax\, 17032\, United States
CATEGORIES:Outside Organization
END:VEVENT
BEGIN:VEVENT
DTSTART;TZID=America/New_York:20221120T100000
DTEND;TZID=America/New_York:20221120T110000
DTSTAMP:20260425T083038
CREATED:20221105T161139Z
LAST-MODIFIED:20221105T171441Z
UID:1158-1668938400-1668942000@halifaxmessiah.church
SUMMARY:Last Sunday After Pentecost - Christ the King Sunday
DESCRIPTION:Joint Service
URL:https://halifaxmessiah.church/event/last-sunday-after-pentecost-christ-the-king-sunday/
LOCATION:Messiah Lutheran Church\, 3 Church Street\, Halifax\, 17032\, United States
CATEGORIES:Worship
END:VEVENT
BEGIN:VEVENT
DTSTART;TZID=America/New_York:20221120T140000
DTEND;TZID=America/New_York:20221120T170000
DTSTAMP:20260425T083038
CREATED:20221105T164615Z
LAST-MODIFIED:20221105T165009Z
UID:1190-1668952800-1668963600@halifaxmessiah.church
SUMMARY:Holiday Concert
DESCRIPTION:Our annual holiday concert featuring the musical talents of Brad Crum and Shelby Nestler & the Make\nMine Country Band will be held at 2 PM on Sunday\, November 20th at the Halifax Ambulance Building.\nThe concert will include Christmas and country music and an Elvis tribute. Light refreshments will be\navailable. \nTickets for this event are general admission only and are priced: $12 for ages 13 and up; $8 for\nages 5 through 12; and free for those under 5 years old. Proceeds from this event will benefit Messiah\nLutheran Church and its ministry. \nTo reserve tickets\, call 717-692-5317 or 717-896-8547.
URL:https://halifaxmessiah.church/event/holiday-concert/
LOCATION:Halifax Ambulance Association Building\, 31 West Bunker Hill Road\, Halifax\, PA\, 17032\, United States
CATEGORIES:Fellowship,Fundraiser
END:VEVENT
END:VCALENDAR