BEGIN:VCALENDAR
VERSION:2.0
PRODID:-//Messiah Lutheran Church - ECPv6.15.20//NONSGML v1.0//EN
CALSCALE:GREGORIAN
METHOD:PUBLISH
X-WR-CALNAME:Messiah Lutheran Church
X-ORIGINAL-URL:https://halifaxmessiah.church
X-WR-CALDESC:Events for Messiah Lutheran Church
REFRESH-INTERVAL;VALUE=DURATION:PT1H
X-Robots-Tag:noindex
X-PUBLISHED-TTL:PT1H
BEGIN:VTIMEZONE
TZID:America/New_York
BEGIN:DAYLIGHT
TZOFFSETFROM:-0500
TZOFFSETTO:-0400
TZNAME:EDT
DTSTART:20210314T070000
END:DAYLIGHT
BEGIN:STANDARD
TZOFFSETFROM:-0400
TZOFFSETTO:-0500
TZNAME:EST
DTSTART:20211107T060000
END:STANDARD
BEGIN:DAYLIGHT
TZOFFSETFROM:-0500
TZOFFSETTO:-0400
TZNAME:EDT
DTSTART:20220313T070000
END:DAYLIGHT
BEGIN:STANDARD
TZOFFSETFROM:-0400
TZOFFSETTO:-0500
TZNAME:EST
DTSTART:20221106T060000
END:STANDARD
BEGIN:DAYLIGHT
TZOFFSETFROM:-0500
TZOFFSETTO:-0400
TZNAME:EDT
DTSTART:20230312T070000
END:DAYLIGHT
BEGIN:STANDARD
TZOFFSETFROM:-0400
TZOFFSETTO:-0500
TZNAME:EST
DTSTART:20231105T060000
END:STANDARD
BEGIN:DAYLIGHT
TZOFFSETFROM:-0500
TZOFFSETTO:-0400
TZNAME:EDT
DTSTART:20240310T070000
END:DAYLIGHT
BEGIN:STANDARD
TZOFFSETFROM:-0400
TZOFFSETTO:-0500
TZNAME:EST
DTSTART:20241103T060000
END:STANDARD
BEGIN:DAYLIGHT
TZOFFSETFROM:-0500
TZOFFSETTO:-0400
TZNAME:EDT
DTSTART:20250309T070000
END:DAYLIGHT
BEGIN:STANDARD
TZOFFSETFROM:-0400
TZOFFSETTO:-0500
TZNAME:EST
DTSTART:20251102T060000
END:STANDARD
BEGIN:DAYLIGHT
TZOFFSETFROM:-0500
TZOFFSETTO:-0400
TZNAME:EDT
DTSTART:20260308T070000
END:DAYLIGHT
BEGIN:STANDARD
TZOFFSETFROM:-0400
TZOFFSETTO:-0500
TZNAME:EST
DTSTART:20261101T060000
END:STANDARD
END:VTIMEZONE
BEGIN:VEVENT
DTSTART;TZID=America/New_York:20251109T090000
DTEND;TZID=America/New_York:20251109T090000
DTSTAMP:20260423T101316
CREATED:20250607T134729Z
LAST-MODIFIED:20250607T134730Z
UID:3561-1762678800-1762678800@halifaxmessiah.church
SUMMARY:Sunday School
DESCRIPTION:
URL:https://halifaxmessiah.church/event/sunday-school-44/
LOCATION:Messiah Lutheran Church\, 3 Church Street\, Halifax\, 17032\, United States
CATEGORIES:Sunday School
END:VEVENT
BEGIN:VEVENT
DTSTART;TZID=America/New_York:20221009T090000
DTEND;TZID=America/New_York:20221009T100000
DTSTAMP:20260423T101316
CREATED:20221105T153516Z
LAST-MODIFIED:20221127T184325Z
UID:1137-1665306000-1665309600@halifaxmessiah.church
SUMMARY:SUNDAY SCHOOL
DESCRIPTION:
URL:https://halifaxmessiah.church/event/sunday-school-13/
LOCATION:Messiah Lutheran Church\, 3 Church Street\, Halifax\, 17032\, United States
CATEGORIES:Sunday School
END:VEVENT
BEGIN:VEVENT
DTSTART;TZID=America/New_York:20251109T100000
DTEND;TZID=America/New_York:20251109T110000
DTSTAMP:20260423T101316
CREATED:20250607T135852Z
LAST-MODIFIED:20250607T140025Z
UID:3579-1762682400-1762686000@halifaxmessiah.church
SUMMARY:Twenty-Second Sunday After Pentecost
DESCRIPTION:
URL:https://halifaxmessiah.church/event/twenty-second-sunday-after-pentecost/
LOCATION:Messiah Lutheran Church\, 3 Church Street\, Halifax\, 17032\, United States
CATEGORIES:Worship
END:VEVENT
BEGIN:VEVENT
DTSTART;TZID=America/New_York:20251109T111500
DTEND;TZID=America/New_York:20251109T123000
DTSTAMP:20260423T101316
CREATED:20250208T150444Z
LAST-MODIFIED:20250208T150444Z
UID:3304-1762686900-1762691400@halifaxmessiah.church
SUMMARY:Joint Council Meeting
DESCRIPTION:
URL:https://halifaxmessiah.church/event/joint-council-meeting-6/
LOCATION:St. Peter’s (Fetterhoff’s)\, 1491 Armstrong Valley Road\, Halifax\, 17032
CATEGORIES:Council Meeting
END:VEVENT
END:VCALENDAR