BEGIN:VCALENDAR
VERSION:2.0
PRODID:-//Messiah Lutheran Church - ECPv6.15.20//NONSGML v1.0//EN
CALSCALE:GREGORIAN
METHOD:PUBLISH
X-WR-CALNAME:Messiah Lutheran Church
X-ORIGINAL-URL:https://halifaxmessiah.church
X-WR-CALDESC:Events for Messiah Lutheran Church
REFRESH-INTERVAL;VALUE=DURATION:PT1H
X-Robots-Tag:noindex
X-PUBLISHED-TTL:PT1H
BEGIN:VTIMEZONE
TZID:America/New_York
BEGIN:DAYLIGHT
TZOFFSETFROM:-0500
TZOFFSETTO:-0400
TZNAME:EDT
DTSTART:20210314T070000
END:DAYLIGHT
BEGIN:STANDARD
TZOFFSETFROM:-0400
TZOFFSETTO:-0500
TZNAME:EST
DTSTART:20211107T060000
END:STANDARD
BEGIN:DAYLIGHT
TZOFFSETFROM:-0500
TZOFFSETTO:-0400
TZNAME:EDT
DTSTART:20220313T070000
END:DAYLIGHT
BEGIN:STANDARD
TZOFFSETFROM:-0400
TZOFFSETTO:-0500
TZNAME:EST
DTSTART:20221106T060000
END:STANDARD
BEGIN:DAYLIGHT
TZOFFSETFROM:-0500
TZOFFSETTO:-0400
TZNAME:EDT
DTSTART:20230312T070000
END:DAYLIGHT
BEGIN:STANDARD
TZOFFSETFROM:-0400
TZOFFSETTO:-0500
TZNAME:EST
DTSTART:20231105T060000
END:STANDARD
END:VTIMEZONE
BEGIN:VEVENT
DTSTART;TZID=America/New_York:20221107T190000
DTEND;TZID=America/New_York:20221107T210000
DTSTAMP:20260419T084539
CREATED:20221105T172008Z
LAST-MODIFIED:20221105T172021Z
UID:1203-1667847600-1667854800@halifaxmessiah.church
SUMMARY:Dartball vs. Lykens UMC
DESCRIPTION:
URL:https://halifaxmessiah.church/event/dartball-vs-lykens-umc/
LOCATION:Lykens United Methodist Church\, 527 North Second Street\, Lykens\, PA\, 17048\, United States
CATEGORIES:Fellowship
END:VEVENT
BEGIN:VEVENT
DTSTART;TZID=America/New_York:20221107T190000
DTEND;TZID=America/New_York:20221107T200000
DTSTAMP:20260419T084539
CREATED:20221105T173600Z
LAST-MODIFIED:20221201T220953Z
UID:1217-1667847600-1667851200@halifaxmessiah.church
SUMMARY:Bell Choir Rehearsal
DESCRIPTION:
URL:https://halifaxmessiah.church/event/bell-choir-rehearsal-5/
LOCATION:Messiah Lutheran Church\, 3 Church Street\, Halifax\, 17032\, United States
CATEGORIES:Music Ministry
END:VEVENT
BEGIN:VEVENT
DTSTART;TZID=America/New_York:20221106T190000
DTEND;TZID=America/New_York:20221106T210000
DTSTAMP:20260419T084539
CREATED:20221105T171906Z
LAST-MODIFIED:20221105T171906Z
UID:1201-1667761200-1667768400@halifaxmessiah.church
SUMMARY:Dartball Practice
DESCRIPTION:
URL:https://halifaxmessiah.church/event/dartball-practice/
LOCATION:Messiah Lutheran Church\, 3 Church Street\, Halifax\, 17032\, United States
CATEGORIES:Fellowship
END:VEVENT
BEGIN:VEVENT
DTSTART;TZID=America/New_York:20221106T100000
DTEND;TZID=America/New_York:20221106T110000
DTSTAMP:20260419T084539
CREATED:20221105T154224Z
LAST-MODIFIED:20221105T155410Z
UID:1146-1667728800-1667732400@halifaxmessiah.church
SUMMARY:Twenty-Second Sunday After Pentecost - All Saints Sunday
DESCRIPTION:
URL:https://halifaxmessiah.church/event/twentieth-sunday-after-pentecost/
LOCATION:Messiah Lutheran Church\, 3 Church Street\, Halifax\, 17032\, United States
CATEGORIES:Worship
END:VEVENT
BEGIN:VEVENT
DTSTART;TZID=America/New_York:20221101T190000
DTEND;TZID=America/New_York:20221101T200000
DTSTAMP:20260419T084539
CREATED:20221105T173453Z
LAST-MODIFIED:20221201T220917Z
UID:1215-1667329200-1667332800@halifaxmessiah.church
SUMMARY:Bell Choir Rehearsal
DESCRIPTION:
URL:https://halifaxmessiah.church/event/bell-choir-rehearsal-4/
LOCATION:Messiah Lutheran Church\, 3 Church Street\, Halifax\, 17032\, United States
CATEGORIES:Music Ministry
END:VEVENT
BEGIN:VEVENT
DTSTART;TZID=America/New_York:20221030T100000
DTEND;TZID=America/New_York:20221030T110000
DTSTAMP:20260419T084539
CREATED:20221105T155713Z
LAST-MODIFIED:20221105T155902Z
UID:1150-1667124000-1667127600@halifaxmessiah.church
SUMMARY:Twenty-First Sunday After Pentecost - Reformation Sunday
DESCRIPTION:Joint Service
URL:https://halifaxmessiah.church/event/twenty-first-sunday-after-pentecost-reformation-sunday/
LOCATION:St. Peter’s (Fetterhoff’s)\, 1491 Armstrong Valley Road\, Halifax\, 17032
CATEGORIES:Worship
END:VEVENT
BEGIN:VEVENT
DTSTART;TZID=America/New_York:20221023T100000
DTEND;TZID=America/New_York:20221023T110000
DTSTAMP:20260419T084539
CREATED:20221105T155828Z
LAST-MODIFIED:20221105T155828Z
UID:1152-1666519200-1666522800@halifaxmessiah.church
SUMMARY:Twentieth Sunday After Pentecost
DESCRIPTION:
URL:https://halifaxmessiah.church/event/twentieth-sunday-after-pentecost-2/
LOCATION:Messiah Lutheran Church\, 3 Church Street\, Halifax\, 17032\, United States
CATEGORIES:Worship
END:VEVENT
BEGIN:VEVENT
DTSTART;TZID=America/New_York:20221023T090000
DTEND;TZID=America/New_York:20221023T100000
DTSTAMP:20260419T084539
CREATED:20221105T153752Z
LAST-MODIFIED:20221105T160635Z
UID:1140-1666515600-1666519200@halifaxmessiah.church
SUMMARY:SUNDAY SCHOOL
DESCRIPTION:
URL:https://halifaxmessiah.church/event/sunday-school-14/
LOCATION:Messiah Lutheran Church\, 3 Church Street\, Halifax\, 17032\, United States
CATEGORIES:Sunday School
END:VEVENT
BEGIN:VEVENT
DTSTART;TZID=America/New_York:20221009T090000
DTEND;TZID=America/New_York:20221009T100000
DTSTAMP:20260419T084539
CREATED:20221105T153516Z
LAST-MODIFIED:20221127T184325Z
UID:1137-1665306000-1665309600@halifaxmessiah.church
SUMMARY:SUNDAY SCHOOL
DESCRIPTION:
URL:https://halifaxmessiah.church/event/sunday-school-13/
LOCATION:Messiah Lutheran Church\, 3 Church Street\, Halifax\, 17032\, United States
CATEGORIES:Sunday School
END:VEVENT
BEGIN:VEVENT
DTSTART;TZID=America/New_York:20221001T080000
DTEND;TZID=America/New_York:20221001T080000
DTSTAMP:20260419T084539
CREATED:20220622T233416Z
LAST-MODIFIED:20220622T234707Z
UID:905-1664611200-1664611200@halifaxmessiah.church
SUMMARY:TeePee Trot 5K and Kids' Giraffe Fun Run
DESCRIPTION:Click here to visit the TeePee Trot website for more information.
URL:https://halifaxmessiah.church/event/teepee-trot-5k-and-kids-giraffe-fun-run/
LOCATION:Lake Tobias Wildlife Park\, 760 Tobias Drive\, Halifax\, PA\, 17032\, United States
CATEGORIES:Fundraiser
END:VEVENT
BEGIN:VEVENT
DTSTART;TZID=America/New_York:20220911T100000
DTEND;TZID=America/New_York:20220911T130000
DTSTAMP:20260419T084539
CREATED:20220401T014124Z
LAST-MODIFIED:20220401T014157Z
UID:616-1662890400-1662901200@halifaxmessiah.church
SUMMARY:Joint Service and Church Picnic
DESCRIPTION:
URL:https://halifaxmessiah.church/event/joint-service-and-church-picnic/
LOCATION:Lake Tobias Wildlife Park\, 760 Tobias Drive\, Halifax\, PA\, 17032\, United States
CATEGORIES:Fellowship,Worship
END:VEVENT
BEGIN:VEVENT
DTSTART;TZID=America/New_York:20220828T100000
DTEND;TZID=America/New_York:20220828T110000
DTSTAMP:20260419T084539
CREATED:20220623T003633Z
LAST-MODIFIED:20220623T003634Z
UID:932-1661680800-1661684400@halifaxmessiah.church
SUMMARY:Twelfth Sunday After Pentecost
DESCRIPTION:
URL:https://halifaxmessiah.church/event/twelfth-sunday-after-pentecost/
LOCATION:Messiah Lutheran Church\, 3 Church Street\, Halifax\, 17032\, United States
CATEGORIES:Worship
END:VEVENT
BEGIN:VEVENT
DTSTART;TZID=America/New_York:20220828T090000
DTEND;TZID=America/New_York:20220828T090000
DTSTAMP:20260419T084539
CREATED:20220623T003402Z
LAST-MODIFIED:20220623T003402Z
UID:930-1661677200-1661677200@halifaxmessiah.church
SUMMARY:Sunday School
DESCRIPTION:
URL:https://halifaxmessiah.church/event/sunday-school-12/
CATEGORIES:Sunday School
END:VEVENT
BEGIN:VEVENT
DTSTART;TZID=America/New_York:20220821T100000
DTEND;TZID=America/New_York:20220821T110000
DTSTAMP:20260419T084539
CREATED:20220623T003006Z
LAST-MODIFIED:20220623T003006Z
UID:928-1661076000-1661079600@halifaxmessiah.church
SUMMARY:Eleventh Sunday After Pentecost
DESCRIPTION:
URL:https://halifaxmessiah.church/event/eleventh-sunday-after-pentecost/
LOCATION:Messiah Lutheran Church\, 3 Church Street\, Halifax\, 17032\, United States
CATEGORIES:Worship
END:VEVENT
BEGIN:VEVENT
DTSTART;TZID=America/New_York:20220814T100000
DTEND;TZID=America/New_York:20220814T110000
DTSTAMP:20260419T084539
CREATED:20220623T002153Z
LAST-MODIFIED:20220623T002153Z
UID:924-1660471200-1660474800@halifaxmessiah.church
SUMMARY:Tenth Sunday After Pentecost
DESCRIPTION:
URL:https://halifaxmessiah.church/event/tenth-sunday-after-pentecost/
LOCATION:Messiah Lutheran Church\, 3 Church Street\, Halifax\, 17032\, United States
CATEGORIES:Worship
END:VEVENT
BEGIN:VEVENT
DTSTART;TZID=America/New_York:20220814T090000
DTEND;TZID=America/New_York:20220814T094500
DTSTAMP:20260419T084539
CREATED:20220623T002350Z
LAST-MODIFIED:20220623T002350Z
UID:926-1660467600-1660470300@halifaxmessiah.church
SUMMARY:Sunday School
DESCRIPTION:
URL:https://halifaxmessiah.church/event/sunday-school-11/
LOCATION:Messiah Lutheran Church\, 3 Church Street\, Halifax\, 17032\, United States
CATEGORIES:Sunday School
END:VEVENT
BEGIN:VEVENT
DTSTART;TZID=America/New_York:20220807T100000
DTEND;TZID=America/New_York:20220807T110000
DTSTAMP:20260419T084539
CREATED:20220623T001816Z
LAST-MODIFIED:20220623T001816Z
UID:922-1659866400-1659870000@halifaxmessiah.church
SUMMARY:Ninth Sunday After Pentecost
DESCRIPTION:
URL:https://halifaxmessiah.church/event/ninth-sunday-after-pentecost/
LOCATION:Messiah Lutheran Church\, 3 Church Street\, Halifax\, 17032\, United States
CATEGORIES:Worship
END:VEVENT
BEGIN:VEVENT
DTSTART;TZID=America/New_York:20220731T100000
DTEND;TZID=America/New_York:20220731T110000
DTSTAMP:20260419T084539
CREATED:20220401T013827Z
LAST-MODIFIED:20220623T001147Z
UID:614-1659261600-1659265200@halifaxmessiah.church
SUMMARY:Joint Service - Eighth Sunday After Pentecost
DESCRIPTION:
URL:https://halifaxmessiah.church/event/joint-service-2/
LOCATION:St. Peter’s (Fetterhoff’s)\, 1491 Armstrong Valley Road\, Halifax\, 17032
CATEGORIES:Worship
END:VEVENT
BEGIN:VEVENT
DTSTART;TZID=America/New_York:20220724T100000
DTEND;TZID=America/New_York:20220724T110000
DTSTAMP:20260419T084539
CREATED:20220623T000456Z
LAST-MODIFIED:20220623T000457Z
UID:916-1658656800-1658660400@halifaxmessiah.church
SUMMARY:Seventh Sunday After Pentecost
DESCRIPTION:
URL:https://halifaxmessiah.church/event/seventh-sunday-after-pentecost/
LOCATION:Messiah Lutheran Church\, 3 Church Street\, Halifax\, 17032\, United States
CATEGORIES:Worship
END:VEVENT
BEGIN:VEVENT
DTSTART;TZID=America/New_York:20220724T090000
DTEND;TZID=America/New_York:20220724T094500
DTSTAMP:20260419T084539
CREATED:20220623T000944Z
LAST-MODIFIED:20220623T000945Z
UID:918-1658653200-1658655900@halifaxmessiah.church
SUMMARY:Sunday School
DESCRIPTION:
URL:https://halifaxmessiah.church/event/sunday-school-10/
CATEGORIES:Sunday School
END:VEVENT
BEGIN:VEVENT
DTSTART;TZID=America/New_York:20220717T100000
DTEND;TZID=America/New_York:20220717T110000
DTSTAMP:20260419T084539
CREATED:20220622T235952Z
LAST-MODIFIED:20220622T235952Z
UID:914-1658052000-1658055600@halifaxmessiah.church
SUMMARY:Sixth Sunday After Pentecost
DESCRIPTION:
URL:https://halifaxmessiah.church/event/sixth-sunday-after-pentecost/
LOCATION:Messiah Lutheran Church\, 3 Church Street\, Halifax\, 17032\, United States
CATEGORIES:Worship
END:VEVENT
BEGIN:VEVENT
DTSTART;TZID=America/New_York:20220710T100000
DTEND;TZID=America/New_York:20220710T110000
DTSTAMP:20260419T084539
CREATED:20220622T235350Z
LAST-MODIFIED:20220622T235839Z
UID:912-1657447200-1657450800@halifaxmessiah.church
SUMMARY:Fifth Sunday After Pentecost
DESCRIPTION:
URL:https://halifaxmessiah.church/event/fifth-sunday-after-pentecost/
LOCATION:Messiah Lutheran Church\, 3 Church Street\, Halifax\, 17032\, United States
CATEGORIES:Worship
END:VEVENT
BEGIN:VEVENT
DTSTART;TZID=America/New_York:20220710T090000
DTEND;TZID=America/New_York:20220710T094500
DTSTAMP:20260419T084539
CREATED:20220622T235154Z
LAST-MODIFIED:20220622T235154Z
UID:910-1657443600-1657446300@halifaxmessiah.church
SUMMARY:Sunday School
DESCRIPTION:
URL:https://halifaxmessiah.church/event/sunday-school-9/
LOCATION:Messiah Lutheran Church\, 3 Church Street\, Halifax\, 17032\, United States
CATEGORIES:Sunday School
END:VEVENT
BEGIN:VEVENT
DTSTART;TZID=America/New_York:20220703T100000
DTEND;TZID=America/New_York:20220703T110000
DTSTAMP:20260419T084539
CREATED:20220622T235021Z
LAST-MODIFIED:20220622T235101Z
UID:908-1656842400-1656846000@halifaxmessiah.church
SUMMARY:Fourth Sunday After Pentecost
DESCRIPTION:
URL:https://halifaxmessiah.church/event/fourth-sunday-after-pentecost/
LOCATION:Messiah Lutheran Church\, 3 Church Street\, Halifax\, 17032\, United States
CATEGORIES:Worship
END:VEVENT
BEGIN:VEVENT
DTSTART;TZID=America/New_York:20220626T100000
DTEND;TZID=America/New_York:20220626T110000
DTSTAMP:20260419T084539
CREATED:20220418T211315Z
LAST-MODIFIED:20220418T211315Z
UID:681-1656237600-1656241200@halifaxmessiah.church
SUMMARY:Third Sunday After Pentecost
DESCRIPTION:
URL:https://halifaxmessiah.church/event/third-sunday-after-pentecost/
LOCATION:Messiah Lutheran Church\, 3 Church Street\, Halifax\, 17032\, United States
CATEGORIES:Worship
END:VEVENT
BEGIN:VEVENT
DTSTART;TZID=America/New_York:20220626T090000
DTEND;TZID=America/New_York:20220626T094500
DTSTAMP:20260419T084539
CREATED:20220418T211147Z
LAST-MODIFIED:20220418T211148Z
UID:679-1656234000-1656236700@halifaxmessiah.church
SUMMARY:Sunday School
DESCRIPTION:
URL:https://halifaxmessiah.church/event/sunday-school-7/
LOCATION:Messiah Lutheran Church\, 3 Church Street\, Halifax\, 17032\, United States
CATEGORIES:Sunday School
END:VEVENT
BEGIN:VEVENT
DTSTART;TZID=America/New_York:20220619T100000
DTEND;TZID=America/New_York:20220619T110000
DTSTAMP:20260419T084539
CREATED:20220418T210950Z
LAST-MODIFIED:20220418T210950Z
UID:677-1655632800-1655636400@halifaxmessiah.church
SUMMARY:Second Sunday After Pentecost
DESCRIPTION:
URL:https://halifaxmessiah.church/event/second-sunday-after-pentecost/
LOCATION:Messiah Lutheran Church\, 3 Church Street\, Halifax\, 17032\, United States
CATEGORIES:Worship
END:VEVENT
BEGIN:VEVENT
DTSTART;TZID=America/New_York:20220612T100000
DTEND;TZID=America/New_York:20220612T110000
DTSTAMP:20260419T084539
CREATED:20220418T210822Z
LAST-MODIFIED:20220418T210822Z
UID:675-1655028000-1655031600@halifaxmessiah.church
SUMMARY:The Holy Trinity/First Sunday After Pentecost
DESCRIPTION:
URL:https://halifaxmessiah.church/event/the-holy-trinity-first-sunday-after-pentecost/
CATEGORIES:Worship
END:VEVENT
BEGIN:VEVENT
DTSTART;TZID=America/New_York:20220612T090000
DTEND;TZID=America/New_York:20220612T094500
DTSTAMP:20260419T084539
CREATED:20220418T210703Z
LAST-MODIFIED:20220418T210703Z
UID:673-1655024400-1655027100@halifaxmessiah.church
SUMMARY:Sunday School
DESCRIPTION:
URL:https://halifaxmessiah.church/event/sunday-school-5/
LOCATION:Messiah Lutheran Church\, 3 Church Street\, Halifax\, 17032\, United States
CATEGORIES:Sunday School
END:VEVENT
BEGIN:VEVENT
DTSTART;TZID=America/New_York:20220605T100000
DTEND;TZID=America/New_York:20220605T110000
DTSTAMP:20260419T084539
CREATED:20220418T210031Z
LAST-MODIFIED:20220418T210337Z
UID:670-1654423200-1654426800@halifaxmessiah.church
SUMMARY:Pentecost
DESCRIPTION:Holy Communion
URL:https://halifaxmessiah.church/event/pentecost/
LOCATION:Messiah Lutheran Church\, 3 Church Street\, Halifax\, 17032\, United States
CATEGORIES:Worship
END:VEVENT
END:VCALENDAR